BEGIN:VCALENDAR
VERSION:2.0
PRODID:-//Cultivate Church//Events//EN
CALSCALE:GREGORIAN
METHOD:PUBLISH
X-WR-CALNAME:Cultivate Church
X-WR-TIMEZONE:America/Chicago
BEGIN:VEVENT
UID:mecc-you-are-not-forgotten@cultivatechurch
DTSTAMP:20260425T104945Z
DTSTART;VALUE=DATE:20260628
DTEND;VALUE=DATE:20260629
SUMMARY:You Are Not Forgotten — Prison Hip Hop Hope Concert (MECC)
DESCRIPTION:A night of hope\, worship\, and the gospel inside Missouri Eastern Correctional Center. Featuring Project Pat\, Young Bro\, AK the Christian Rapper\, LinkBoyz\, Jamel R\, Devon Wilson\, and Shane Blackledge. In partnership with Celebrate Recovery\, Prison Fellowship\, You Are Not Forgotten\, and Sword of the Spirit.
LOCATION:Missouri Eastern Correctional Center
END:VEVENT
BEGIN:VEVENT
UID:breakfast-gatherings-april@cultivatechurch
DTSTAMP:20260425T104945Z
DTSTART:20260425T140000Z
DTEND:20260425T170000Z
SUMMARY:Breakfast Gatherings — Men's & Women's
DESCRIPTION:Food\, fellowship\, and community. Men gather at Black Bear Diner in St. Charles. Women gather at Trina Licata's home. “They devoted themselves to the apostles' teaching and to fellowship\, to the breaking of bread and to prayer.” — Acts 2:42
LOCATION:Men's: Black Bear Diner\, St. Charles • Women's: Trina Licata's Home
END:VEVENT
BEGIN:VEVENT
UID:awaken-stl-prophetic-conference-oct-2026@cultivatechurch
DTSTAMP:20260425T104945Z
DTSTART:20261002T230000Z
DTEND:20261003T003000Z
SUMMARY:Awaken STL Prophetic Conference
DESCRIPTION:Three days of worship\, prophetic ministry\, and Holy Spirit outpouring with Prophet John & Meleana Harke. Come hungry — leave commissioned.
LOCATION:Old Stone Chapel • 1106 S Main St\, St. Charles\, MO 63301
END:VEVENT
BEGIN:VEVENT
UID:rise-up-stl@cultivatechurch
DTSTAMP:20260425T104945Z
DTSTART:20260516T190000Z
DTEND:20260516T230000Z
SUMMARY:Rise Up STL — Christian Hip Hop Concert
DESCRIPTION:“Let us rise up and build.” (Nehemiah 2:18) Honoring 100 years of Black history with Alderwoman Laura Keys. FREE BBQ\, cash giveaways\, and family fun. Featuring P Lott\, Dunamis\, AKtheChristianRapper\, Manna\, Jamel R.\, Coleboy Sedro\, CB Christboy\, Nasir B.\, and Shooz Da Victory. Presented by You Are Not Forgotten\, Cultivate Church\, Red Church\, and Sword of the Spirit.
LOCATION:Fairgrounds Park\, St. Louis
END:VEVENT
BEGIN:VEVENT
UID:costa-rica-missions-2027@cultivatechurch
DTSTAMP:20260425T104945Z
DTSTART;VALUE=DATE:20270119
DTEND;VALUE=DATE:20270120
SUMMARY:Build a Church in Costa Rica — Men's Missions Trip
DESCRIPTION:Join the MOVE Brotherhood to help construct a church in Upala\, Costa Rica\, in partnership with Open Bible Churches of Costa Rica. Stay at Hotel Wilson\, serve alongside a growing local congregation\, and grow spiritually together. Cost: $3\,000 ($400 deposit to register\; full payment by November 15\, 2026). Includes airfare\, housing\, most meals\, ground transportation\, and 15% toward construction. Registration is open — trip is at 50% capacity. Make checks payable to Open Bible Churches (memo: “MOVE-Costa Rica '27”)\, mailed to 2020 Bell Ave\, Des Moines\, IA 50315. Online payments open January 1\, 2026.
LOCATION:Upala\, Costa Rica
END:VEVENT
BEGIN:VEVENT
UID:fire-fest@cultivatechurch
DTSTAMP:20260425T104945Z
DTSTART:20260627T190000Z
DTEND:20260627T230000Z
SUMMARY:Fire Fest 2026
DESCRIPTION:FREE concert\, FREE BBQ\, FREE giveaways\, family fun. Featuring LinkBoyz\, Young Bro\, AKtheChristianRapper\, K3hLab\, and Dunamis. Sponsored by Sword of the Spirit\, Cultivate Church\, and You Are Not Forgotten Inc.
LOCATION:Lemay Park\, St. Louis
END:VEVENT
BEGIN:VEVENT
UID:monthly-communion-baptism-sunday@cultivatechurch
DTSTAMP:20260425T104945Z
DTSTART:20260510T153000Z
DTEND:20260510T170000Z
RRULE:FREQ=MONTHLY;BYDAY=2SU
SUMMARY:Communion & Baptism Sunday
DESCRIPTION:10:30 AM • We take communion together and celebrate new life in Christ through baptism. If you'd like to be baptized\, come ready!
END:VEVENT
BEGIN:VEVENT
UID:monthly-liv-men-s-drug-rehab-center@cultivatechurch
DTSTAMP:20260425T104945Z
DTSTART:20260429T000000Z
DTEND:20260429T013000Z
RRULE:FREQ=MONTHLY;BYDAY=2TU,4TU
SUMMARY:LIV Men's Drug Rehab Center
DESCRIPTION:7:00 PM • Recovery support partnership — ministering hope\, the Word\, and prayer to the men at LIV.
END:VEVENT
BEGIN:VEVENT
UID:monthly-bridgeway-men-s-drug-rehab@cultivatechurch
DTSTAMP:20260425T104945Z
DTSTART:20260510T000000Z
DTEND:20260510T013000Z
RRULE:FREQ=MONTHLY;BYDAY=2SA,4SA
SUMMARY:Bridgeway Men's Drug Rehab
DESCRIPTION:Ministering the Word and sharing testimonies with the men at Bridgeway.
END:VEVENT
BEGIN:VEVENT
UID:monthly-community-gathering@cultivatechurch
DTSTAMP:20260425T104945Z
DTSTART:20260522T000000Z
DTEND:20260522T013000Z
RRULE:FREQ=MONTHLY;BYDAY=3TH
SUMMARY:Community Gathering
DESCRIPTION:Once a month at Pastors Shane and Amber Blackledge's home — an intimate night with vision to multiply across the region into weekly Thursday gatherings.
END:VEVENT
BEGIN:VEVENT
UID:monthly-street-ministry-outreach@cultivatechurch
DTSTAMP:20260425T104945Z
DTSTART:20260516T150000Z
DTEND:20260516T163000Z
RRULE:FREQ=MONTHLY;BYDAY=3SA
SUMMARY:Street Ministry Outreach
DESCRIPTION:10:00 AM • Taking the gospel and practical love downtown.
END:VEVENT
BEGIN:VEVENT
UID:monthly-unhoused-ministry@cultivatechurch
DTSTAMP:20260425T104945Z
DTSTART:20260516T180000Z
DTEND:20260516T200000Z
RRULE:FREQ=MONTHLY;BYDAY=3SA
SUMMARY:Unhoused Ministry
DESCRIPTION:1:00 PM – 3:00 PM • Handing out blessing bags\, offering resources\, and sharing the gospel with our unhoused neighbors.
END:VEVENT
BEGIN:VEVENT
UID:monthly-normandy-nursing-center-outreach@cultivatechurch
DTSTAMP:20260425T104945Z
DTSTART:20260426T190000Z
DTEND:20260426T200000Z
RRULE:FREQ=MONTHLY;BYDAY=4SU
SUMMARY:Normandy Nursing Center Outreach
DESCRIPTION:2:00 PM – 3:00 PM • Outreach ministry — preaching the gospel\, sharing testimonies\, worship\, and baptisms.
END:VEVENT
BEGIN:VEVENT
UID:monthly-men-s-breakfast@cultivatechurch
DTSTAMP:20260425T104945Z
DTSTART:20260523T140000Z
DTEND:20260523T153000Z
RRULE:FREQ=MONTHLY;BYDAY=4SA
SUMMARY:Men's Breakfast
DESCRIPTION:9:00 AM – 10:30 AM • Brotherhood\, food\, and the Word.
END:VEVENT
BEGIN:VEVENT
UID:monthly-women-s-breakfast@cultivatechurch
DTSTAMP:20260425T104945Z
DTSTART:20260523T140000Z
DTEND:20260523T153000Z
RRULE:FREQ=MONTHLY;BYDAY=4SA
SUMMARY:Women's Breakfast
DESCRIPTION:9:00 AM – 10:30 AM • Sisterhood\, encouragement\, and prayer.
END:VEVENT
END:VCALENDAR